BEGIN:VCALENDAR
VERSION:2.0
PRODID:-//Beyond Behnkes - ECPv6.15.20//NONSGML v1.0//EN
CALSCALE:GREGORIAN
METHOD:PUBLISH
X-WR-CALNAME:Beyond Behnkes
X-ORIGINAL-URL:https://beyondbehnkes.com
X-WR-CALDESC:Events for Beyond Behnkes
REFRESH-INTERVAL;VALUE=DURATION:PT1H
X-Robots-Tag:noindex
X-PUBLISHED-TTL:PT1H
BEGIN:VTIMEZONE
TZID:America/New_York
BEGIN:DAYLIGHT
TZOFFSETFROM:-0500
TZOFFSETTO:-0400
TZNAME:EDT
DTSTART:20240310T070000
END:DAYLIGHT
BEGIN:STANDARD
TZOFFSETFROM:-0400
TZOFFSETTO:-0500
TZNAME:EST
DTSTART:20241103T060000
END:STANDARD
BEGIN:DAYLIGHT
TZOFFSETFROM:-0500
TZOFFSETTO:-0400
TZNAME:EDT
DTSTART:20250309T070000
END:DAYLIGHT
BEGIN:STANDARD
TZOFFSETFROM:-0400
TZOFFSETTO:-0500
TZNAME:EST
DTSTART:20251102T060000
END:STANDARD
BEGIN:DAYLIGHT
TZOFFSETFROM:-0500
TZOFFSETTO:-0400
TZNAME:EDT
DTSTART:20260308T070000
END:DAYLIGHT
BEGIN:STANDARD
TZOFFSETFROM:-0400
TZOFFSETTO:-0500
TZNAME:EST
DTSTART:20261101T060000
END:STANDARD
END:VTIMEZONE
BEGIN:VEVENT
DTSTART;TZID=America/New_York:20251207T110000
DTEND;TZID=America/New_York:20251207T140000
DTSTAMP:20260423T201655
CREATED:20251202T055704Z
LAST-MODIFIED:20251202T060050Z
UID:47579-1765105200-1765116000@beyondbehnkes.com
SUMMARY:Turf Valley Resort
DESCRIPTION:[vc_row][vc_column][vc_column_text css=””]\nCome see Beyond Behnke’s as we take part in \nThe Second Annual Artisan Christmas Market \nat Turf Valley Resort! \n December 7th\, 11am – 2pm\nHandcrafted gifts\, food concessions\, kid’s corner. Shop small and local.\nEntry is free \n[/vc_column_text][/vc_column][/vc_row]
URL:https://beyondbehnkes.com/event/turf-valley-resort/
LOCATION:Turf Valley Resort\, 2700 Turf Valley Rd\, Ellicott City\, MD\, 21042\, United States
CATEGORIES:Christmas
ATTACH;FMTTYPE=image/jpeg:https://beyondbehnkes.com/wp-content/uploads/2025/12/Turf-Valley-Dec-2025.jpg
END:VEVENT
END:VCALENDAR