BEGIN:VCALENDAR
VERSION:2.0
PRODID:-//Beyond Behnkes - ECPv6.15.20//NONSGML v1.0//EN
CALSCALE:GREGORIAN
METHOD:PUBLISH
X-ORIGINAL-URL:https://beyondbehnkes.com
X-WR-CALDESC:Events for Beyond Behnkes
REFRESH-INTERVAL;VALUE=DURATION:PT1H
X-Robots-Tag:noindex
X-PUBLISHED-TTL:PT1H
BEGIN:VTIMEZONE
TZID:America/New_York
BEGIN:DAYLIGHT
TZOFFSETFROM:-0500
TZOFFSETTO:-0400
TZNAME:EDT
DTSTART:20250309T070000
END:DAYLIGHT
BEGIN:STANDARD
TZOFFSETFROM:-0400
TZOFFSETTO:-0500
TZNAME:EST
DTSTART:20251102T060000
END:STANDARD
BEGIN:DAYLIGHT
TZOFFSETFROM:-0500
TZOFFSETTO:-0400
TZNAME:EDT
DTSTART:20260308T070000
END:DAYLIGHT
BEGIN:STANDARD
TZOFFSETFROM:-0400
TZOFFSETTO:-0500
TZNAME:EST
DTSTART:20261101T060000
END:STANDARD
BEGIN:DAYLIGHT
TZOFFSETFROM:-0500
TZOFFSETTO:-0400
TZNAME:EDT
DTSTART:20270314T070000
END:DAYLIGHT
BEGIN:STANDARD
TZOFFSETFROM:-0400
TZOFFSETTO:-0500
TZNAME:EST
DTSTART:20271107T060000
END:STANDARD
END:VTIMEZONE
BEGIN:VEVENT
DTSTART;TZID=America/New_York:20260410T100000
DTEND;TZID=America/New_York:20260410T160000
DTSTAMP:20260420T041646
CREATED:20260409T211502Z
LAST-MODIFIED:20260409T211502Z
UID:47749-1775815200-1775836800@beyondbehnkes.com
SUMMARY:Gaithersburg Spring Craft Show
DESCRIPTION:Gaithersburg Spring Craft Show\nApril 10–12\, 2026 \n  \nI’ll be exhibiting at the Gaithersburg Spring craft show at the Montgomery County Fairgrounds\, and I’d love for you to stop by and say hello. This is a fun\, indoor event with arts & crafts\, home & garden vendors\, live music\, and specialty foods… a nice way to spend a spring day. I’ll have my handcrafted quilled greeting cards with me… they’re always even more special to see in person. \n  \nMontgomery County Fairgrounds\nGaithersburg\, MD \nApril 10–12\, 2026\nFriday–Sunday\, 10am–4pm\nIf you’re in the area\, I hope you’ll come visit.
URL:https://beyondbehnkes.com/event/gaithersburg-spring-craft-show/
LOCATION:Montgomery Country Fairgrounds\, 16 Chestnut St\,\, Gaithersburg\, MD\, 20877\, United States
CATEGORIES:Crafts
ATTACH;FMTTYPE=image/jpeg:https://beyondbehnkes.com/wp-content/uploads/2026/04/MCfairgrounds.jpg
END:VEVENT
BEGIN:VEVENT
DTSTART;TZID=America/New_York:20260411T100000
DTEND;TZID=America/New_York:20260411T160000
DTSTAMP:20260420T041646
CREATED:20260409T211557Z
LAST-MODIFIED:20260409T211557Z
UID:47754-1775901600-1775923200@beyondbehnkes.com
SUMMARY:Gaithersburg Spring Craft Show
DESCRIPTION:Gaithersburg Spring Craft Show\nApril 10–12\, 2026 \n  \nI’ll be exhibiting at the Gaithersburg Spring craft show at the Montgomery County Fairgrounds\, and I’d love for you to stop by and say hello. This is a fun\, indoor event with arts & crafts\, home & garden vendors\, live music\, and specialty foods… a nice way to spend a spring day. I’ll have my handcrafted quilled greeting cards with me… they’re always even more special to see in person. \n  \nMontgomery County Fairgrounds\nGaithersburg\, MD \nApril 10–12\, 2026\nFriday–Sunday\, 10am–4pm\nIf you’re in the area\, I hope you’ll come visit.
URL:https://beyondbehnkes.com/event/gaithersburg-spring-craft-show-2/
LOCATION:Montgomery Country Fairgrounds\, 16 Chestnut St\,\, Gaithersburg\, MD\, 20877\, United States
CATEGORIES:Crafts
ATTACH;FMTTYPE=image/jpeg:https://beyondbehnkes.com/wp-content/uploads/2026/04/MCfairgrounds.jpg
END:VEVENT
BEGIN:VEVENT
DTSTART;TZID=America/New_York:20260412T100000
DTEND;TZID=America/New_York:20260412T160000
DTSTAMP:20260420T041646
CREATED:20260409T211626Z
LAST-MODIFIED:20260409T211626Z
UID:47755-1775988000-1776009600@beyondbehnkes.com
SUMMARY:Gaithersburg Spring Craft Show
DESCRIPTION:Gaithersburg Spring Craft Show\nApril 10–12\, 2026 \n  \nI’ll be exhibiting at the Gaithersburg Spring craft show at the Montgomery County Fairgrounds\, and I’d love for you to stop by and say hello. This is a fun\, indoor event with arts & crafts\, home & garden vendors\, live music\, and specialty foods… a nice way to spend a spring day. I’ll have my handcrafted quilled greeting cards with me… they’re always even more special to see in person. \n  \nMontgomery County Fairgrounds\nGaithersburg\, MD \nApril 10–12\, 2026\nFriday–Sunday\, 10am–4pm\nIf you’re in the area\, I hope you’ll come visit.
URL:https://beyondbehnkes.com/event/gaithersburg-spring-craft-show-3/
LOCATION:Montgomery Country Fairgrounds\, 16 Chestnut St\,\, Gaithersburg\, MD\, 20877\, United States
CATEGORIES:Crafts
ATTACH;FMTTYPE=image/jpeg:https://beyondbehnkes.com/wp-content/uploads/2026/04/MCfairgrounds.jpg
END:VEVENT
BEGIN:VEVENT
DTSTART;TZID=America/New_York:20260424T100000
DTEND;TZID=America/New_York:20260424T130000
DTSTAMP:20260420T041646
CREATED:20260416T032139Z
LAST-MODIFIED:20260416T032604Z
UID:47758-1777024800-1777035600@beyondbehnkes.com
SUMMARY:Pretty in Pink Luncheon at Turf Valley Resort
DESCRIPTION:Join Beyond Behnke’s at the Pretty in Pink Luncheon at Turf Valley Resort\, a special event benefiting Blossoms of Hope. This meaningful gathering brings together community\, connection\, and a shared purpose of supporting the Claudia Mayer/Tina Broccolino Cancer Resource Center at Johns Hopkins Howard County Medical Center. You’ll find a variety of vendors during the shopping portion of the day\, and I’ll be there with my handcrafted\, fair trade quilled cards… each one a small piece of art made with care. \nFriday\, April 24\nTurf Valley Resort\nShopping: 10:00 AM – 1:00 PM \nLunch and fashion show will follow. If you’re attending\, I’d love for you to stop by and say hello. \nLearn more: TurfValley.com/prettyinpink
URL:https://beyondbehnkes.com/event/pretty-in-pink-luncheon-at-turf-valley-resort/
LOCATION:Turf Valley Resort\, 2700 Turf Valley Rd\, Ellicott City\, MD\, 21042\, United States
CATEGORIES:Charity,Crafts,Food
ATTACH;FMTTYPE=image/png:https://beyondbehnkes.com/wp-content/uploads/2026/04/Pretty-In-Pink.png
END:VEVENT
BEGIN:VEVENT
DTSTART;TZID=America/New_York:20260425T090000
DTEND;TZID=America/New_York:20260425T160000
DTSTAMP:20260420T041646
CREATED:20260416T033146Z
LAST-MODIFIED:20260419T225049Z
UID:47762-1777107600-1777132800@beyondbehnkes.com
SUMMARY:Frederick FiberFest at the Frederick Fairgrounds
DESCRIPTION:Join Beyond Behnke’s at Frederick FiberFest for a fun and creative day at the Frederick Fairgrounds. \nThis event brings together a wide variety of vendors\, fiber artists\, and makers\, along with great local food and a relaxed\, welcoming atmosphere. It’s the kind of day where you can take your time\, explore\, and enjoy all the creativity around you. \nI’ll be there with my handcrafted\, fair trade quilled cards… each one carefully made and truly a little piece of art. \nSaturday\, April 25\nFrederick Fairgrounds\n9:00 AM – 4:00 PM \nFind Me: Building 14 • Space 24 \nIf you’re coming out\, I’d love for you to stop by and say hello. \nLearn more:\nwww.frederickfiberfest.com
URL:https://beyondbehnkes.com/event/frederick-fiberfest-at-the-frederick-fairgrounds/
LOCATION:The Frederick Fairgrounds\, 797 East Patrick Street\, Frederick\, MD\, 21701\, United States
CATEGORIES:Crafts
ATTACH;FMTTYPE=image/png:https://beyondbehnkes.com/wp-content/uploads/2026/04/new-fiberfest.png
END:VEVENT
END:VCALENDAR